BEGIN:VCALENDAR
VERSION:2.0
PRODID:-//Briningham Parish Council//Meeting Calendar//EN
CALSCALE:GREGORIAN
METHOD:PUBLISH
BEGIN:VEVENT
UID:70524-20230525@brininghamparish.gov.uk
DTSTAMP:20260424T083543Z
DTSTART;VALUE=DATE:20230525
DTEND;VALUE=DATE:20230526
SUMMARY:Annual Parish Council Meeting – 25 May 2023
DESCRIPTION:Annual Parish Council Meeting\nView details: https://brininghamparish.gov.uk/meetings/annual-parish-council-meeting-25-may-2023/
URL:https://brininghamparish.gov.uk/meetings/annual-parish-council-meeting-25-may-2023/
END:VEVENT
END:VCALENDAR
