BEGIN:VCALENDAR
VERSION:2.0
PRODID:-//Briningham Parish Council//Meeting Calendar//EN
CALSCALE:GREGORIAN
METHOD:PUBLISH
BEGIN:VEVENT
UID:70470-20250130@brininghamparish.gov.uk
DTSTAMP:20260422T083351Z
DTSTART;VALUE=DATE:20250130
DTEND;VALUE=DATE:20250131
SUMMARY:Council Meeting – 30 January 2025
DESCRIPTION:Full Council Meeting\nView details: https://brininghamparish.gov.uk/meetings/council-meeting-30-january-2025/
URL:https://brininghamparish.gov.uk/meetings/council-meeting-30-january-2025/
END:VEVENT
END:VCALENDAR
