BEGIN:VCALENDAR
VERSION:2.0
PRODID:-//Briningham Parish Council//Meeting Calendar//EN
CALSCALE:GREGORIAN
METHOD:PUBLISH
BEGIN:VEVENT
UID:70465-20250501@brininghamparish.gov.uk
DTSTAMP:20260420T082653Z
DTSTART;VALUE=DATE:20250501
DTEND;VALUE=DATE:20250502
SUMMARY:Annual Council Meeting – 1 May 2025
DESCRIPTION:Annual Parish Meeting\nView details: https://brininghamparish.gov.uk/meetings/annual-council-meeting-1-may-2025/
URL:https://brininghamparish.gov.uk/meetings/annual-council-meeting-1-may-2025/
END:VEVENT
END:VCALENDAR
